BEGIN:VCALENDAR
VERSION:2.0
PRODID:-//Mexico Beach - ECPv6.15.20//NONSGML v1.0//EN
CALSCALE:GREGORIAN
METHOD:PUBLISH
X-WR-CALNAME:Mexico Beach
X-ORIGINAL-URL:https://mexicobeach.com
X-WR-CALDESC:Events for Mexico Beach
REFRESH-INTERVAL;VALUE=DURATION:PT1H
X-Robots-Tag:noindex
X-PUBLISHED-TTL:PT1H
BEGIN:VTIMEZONE
TZID:America/Chicago
BEGIN:DAYLIGHT
TZOFFSETFROM:-0600
TZOFFSETTO:-0500
TZNAME:CDT
DTSTART:20250309T080000
END:DAYLIGHT
BEGIN:STANDARD
TZOFFSETFROM:-0500
TZOFFSETTO:-0600
TZNAME:CST
DTSTART:20251102T070000
END:STANDARD
BEGIN:DAYLIGHT
TZOFFSETFROM:-0600
TZOFFSETTO:-0500
TZNAME:CDT
DTSTART:20260308T080000
END:DAYLIGHT
BEGIN:STANDARD
TZOFFSETFROM:-0500
TZOFFSETTO:-0600
TZNAME:CST
DTSTART:20261101T070000
END:STANDARD
BEGIN:DAYLIGHT
TZOFFSETFROM:-0600
TZOFFSETTO:-0500
TZNAME:CDT
DTSTART:20270314T080000
END:DAYLIGHT
BEGIN:STANDARD
TZOFFSETFROM:-0500
TZOFFSETTO:-0600
TZNAME:CST
DTSTART:20271107T070000
END:STANDARD
END:VTIMEZONE
BEGIN:VEVENT
DTSTART;VALUE=DATE:20260401
DTEND;VALUE=DATE:20260801
DTSTAMP:20260424T192112
CREATED:20240227T155911Z
LAST-MODIFIED:20260213T144743Z
UID:10001608-1775001600-1785542399@mexicobeach.com
SUMMARY:Annual Photography Contest
DESCRIPTION:It’s time to showcase your talent and capture the beauty of Mexico Beach! The 26th Annual Mexico Beach Photography Contest opens for submissions on April 1 and runs through July 31\, 2026. We welcome photographs taken in Mexico Beach\, FL\, whether from past adventures or recent visits. After the submission deadline\, all entries will be carefully judged\, and winners will be announced on the Mexico Beach website\, social media pages\, and in the e-newsletter. Winning photographs will also be proudly displayed at the Mexico Beach Welcome Center for a year following the contest. See below for the official entry form. \nEntry is free! We can’t wait to see Mexico Beach through your unique perspective. \nOfficial Photography Entry Form
URL:https://mexicobeach.com/event/annual-photography-contest/
LOCATION:Mexico Beach Welcome Center\, 102 Canal Parkway\, Mexico Beach\, FL\, 32456
CATEGORIES:Art
ATTACH;FMTTYPE=image/jpeg:https://mexicobeach.com/wp-content/uploads/2025/08/qtq80-mkWWHL.jpeg
END:VEVENT
END:VCALENDAR