BEGIN:VCALENDAR
VERSION:2.0
PRODID:-//Mexico Beach - ECPv6.15.20//NONSGML v1.0//EN
CALSCALE:GREGORIAN
METHOD:PUBLISH
X-WR-CALNAME:Mexico Beach
X-ORIGINAL-URL:https://mexicobeach.com
X-WR-CALDESC:Events for Mexico Beach
REFRESH-INTERVAL;VALUE=DURATION:PT1H
X-Robots-Tag:noindex
X-PUBLISHED-TTL:PT1H
BEGIN:VTIMEZONE
TZID:America/Chicago
BEGIN:DAYLIGHT
TZOFFSETFROM:-0600
TZOFFSETTO:-0500
TZNAME:CDT
DTSTART:20250309T080000
END:DAYLIGHT
BEGIN:STANDARD
TZOFFSETFROM:-0500
TZOFFSETTO:-0600
TZNAME:CST
DTSTART:20251102T070000
END:STANDARD
BEGIN:DAYLIGHT
TZOFFSETFROM:-0600
TZOFFSETTO:-0500
TZNAME:CDT
DTSTART:20260308T080000
END:DAYLIGHT
BEGIN:STANDARD
TZOFFSETFROM:-0500
TZOFFSETTO:-0600
TZNAME:CST
DTSTART:20261101T070000
END:STANDARD
BEGIN:DAYLIGHT
TZOFFSETFROM:-0600
TZOFFSETTO:-0500
TZNAME:CDT
DTSTART:20270314T080000
END:DAYLIGHT
BEGIN:STANDARD
TZOFFSETFROM:-0500
TZOFFSETTO:-0600
TZNAME:CST
DTSTART:20271107T070000
END:STANDARD
END:VTIMEZONE
BEGIN:VEVENT
DTSTART;TZID=America/Chicago:20260925T080000
DTEND;TZID=America/Chicago:20260925T150000
DTSTAMP:20260424T192436
CREATED:20260122T143308Z
LAST-MODIFIED:20260122T143551Z
UID:10002053-1790323200-1790348400@mexicobeach.com
SUMMARY:Weekly Beach Clean Up
DESCRIPTION:Help Keep Our Beach Unforgettable! \nEach Friday in September\, we invite you to put on your working gloves and help clean the beach. \nHere’s how it works: \n\nPick up cleanup supplies at the Welcome Center starting at 8:00 AM \nHead to any beach entrance and collect trash\nBring your trash back to the Welcome Center by 3:00 PM\nGet a commemorative gift for helping out!\n\nAll times central! \nStay all weekend\, and participate in our Slow Days & Sunsets events.
URL:https://mexicobeach.com/event/weekly-beach-clean-up-2/2026-09-25/
LOCATION:Mexico Beach Welcome Center\, 102 Canal Parkway\, Mexico Beach\, FL\, 32456
CATEGORIES:Ecotourism
ATTACH;FMTTYPE=image/jpeg:https://mexicobeach.com/wp-content/uploads/2023/09/Around-MB-3rd-Pricilla-Hightower-scaled.jpg
END:VEVENT
END:VCALENDAR