BEGIN:VCALENDAR
VERSION:2.0
PRODID:-//Mexico Beach - ECPv6.15.20//NONSGML v1.0//EN
CALSCALE:GREGORIAN
METHOD:PUBLISH
X-ORIGINAL-URL:https://mexicobeach.com
X-WR-CALDESC:Events for Mexico Beach
REFRESH-INTERVAL;VALUE=DURATION:PT1H
X-Robots-Tag:noindex
X-PUBLISHED-TTL:PT1H
BEGIN:VTIMEZONE
TZID:America/Chicago
BEGIN:DAYLIGHT
TZOFFSETFROM:-0600
TZOFFSETTO:-0500
TZNAME:CDT
DTSTART:20250309T080000
END:DAYLIGHT
BEGIN:STANDARD
TZOFFSETFROM:-0500
TZOFFSETTO:-0600
TZNAME:CST
DTSTART:20251102T070000
END:STANDARD
BEGIN:DAYLIGHT
TZOFFSETFROM:-0600
TZOFFSETTO:-0500
TZNAME:CDT
DTSTART:20260308T080000
END:DAYLIGHT
BEGIN:STANDARD
TZOFFSETFROM:-0500
TZOFFSETTO:-0600
TZNAME:CST
DTSTART:20261101T070000
END:STANDARD
BEGIN:DAYLIGHT
TZOFFSETFROM:-0600
TZOFFSETTO:-0500
TZNAME:CDT
DTSTART:20270314T080000
END:DAYLIGHT
BEGIN:STANDARD
TZOFFSETFROM:-0500
TZOFFSETTO:-0600
TZNAME:CST
DTSTART:20271107T070000
END:STANDARD
END:VTIMEZONE
BEGIN:VEVENT
DTSTART;VALUE=DATE:20260606
DTEND;VALUE=DATE:20260607
DTSTAMP:20260424T142237
CREATED:20240227T144725Z
LAST-MODIFIED:20260122T142147Z
UID:10001603-1780704000-1780790399@mexicobeach.com
SUMMARY:License-Free Saltwater Fishing Day
DESCRIPTION:Want to try and catch that “big one” without a saltwater fishing license? You are in luck. The Florida Fish & Wildlife Conservation Commission offering license-free fishing days for those wanting to test the waters. This is an excellent opportunity for those who don’t yet have a fishing license to experience fishing\, take youth fishing\, or for avid anglers to introduce a friend to fishing without having to purchase a State of Florida issued fishing license. On the listed days\, the fishing license requirement is waived for all recreational anglers\, including both State of Florida residents and non-residents. The saltwater waiver applies to any recreational harvest requiring a saltwater fishing license (e.g.\, crabbing\, lobstering\, scalloping\, etc.) as well as fishing from shore or a boat.  A snook or spiny lobster permit are also not required on these days. \nFor more information visit Florida Fish & Wildlife Conservation by  clicking here.
URL:https://mexicobeach.com/event/license-free-saltwater-fishing-day-3/
LOCATION:Gulf of America\, Mexico Beach\, FL\, 32456\, United States
CATEGORIES:Fishing
ATTACH;FMTTYPE=image/jpeg:https://mexicobeach.com/wp-content/uploads/2019/09/Anita-Garrett_3rd_FishingBoating.jpg
GEO:29.947293;-85.42451
END:VEVENT
BEGIN:VEVENT
DTSTART;VALUE=DATE:20260607
DTEND;VALUE=DATE:20260608
DTSTAMP:20260424T142237
CREATED:20240227T144623Z
LAST-MODIFIED:20260122T142130Z
UID:10001602-1780790400-1780876799@mexicobeach.com
SUMMARY:License-Free Saltwater Fishing Day
DESCRIPTION:Ready to fish without having to purchase a saltwater fising license? The Florida Fish & Wildlife Conservation Commission offering license-free fishing days for those wanting to test the waters. This is an excellent opportunity for those who don’t yet have a fishing license to experience fishing\, take youth fishing\, or for avid anglers to introduce a friend to fishing without having to purchase a State of Florida issued fishing license. On the listed days\, the fishing license requirement is waived for all recreational anglers\, including both State of Florida residents and non-residents. The saltwater waiver applies to any recreational harvest requiring a saltwater fishing license (e.g.\, crabbing\, lobstering\, scalloping\, etc.) as well as fishing from shore or a boat.  A snook or spiny lobster permit are also not required on these days. \nFor more information visit Florida Fish & Wildlife Conservation by  clicking here.
URL:https://mexicobeach.com/event/license-free-saltwater-fishing-day-2/
LOCATION:Gulf of America\, Mexico Beach\, FL\, 32456\, United States
CATEGORIES:Fishing
ATTACH;FMTTYPE=image/jpeg:https://mexicobeach.com/wp-content/uploads/2015/11/Mexico-Beach-ELail-3rd-Fishing1.jpg
GEO:29.947293;-85.42451
END:VEVENT
BEGIN:VEVENT
DTSTART;VALUE=DATE:20260626
DTEND;VALUE=DATE:20260628
DTSTAMP:20260424T142237
CREATED:20240325T191618Z
LAST-MODIFIED:20260223T141518Z
UID:10001610-1782432000-1782604799@mexicobeach.com
SUMMARY:GollyWhopper Classic
DESCRIPTION:Join the Excitement at the GollyWhopper Classic! \nGet ready for the 2026 GollyWhopper Classic\, Mexico Beach’s ultimate fishing tournament! Whether you’re a seasoned angler or casting a line for the first time\, this action-packed event offers incredible fishing\, friendly competition\, and a shot at cash prizes. With divisions for all skill levels\, including a dedicated youth division\, it’s the perfect way to get the whole family involved in the excitement. \nTournament Schedule:\nCaptain’s Party – Friday\, June 26\nKick off the weekend with live music\, great food\, registration\, and plenty of fun\, starting at 5:00pm! For those who still need to register\, this is your last opportunity. \nTournament Day – Saturday\, June 27 \nWeigh-in will take place from 3:30pm to 5:30pm at Boat Ramp Park\, Mexico Beach. \nMark your calendars\, gather your gear\, and get ready for an epic weekend of fishing and fun at the GollyWhopper Classic! Join us for a day of fun\, fishing\, and friendly competition in beautiful Mexico Beach! Follow our Facebook page for any updates\, pictures and more. Coming soon\, the 2026 Tournament Rules\, so check back. \nCategories: \n\nRed Snapper\nKing Mackerel\nGrouper (any legal size)\n\nThis tournament is hosted by the Mexico Beach Department of Public Safety- Fire Rescue. All times listed in Central Time.
URL:https://mexicobeach.com/event/gollywhopper-classic/
LOCATION:Mexico Beach Boat Ramp\, 4444 US-98\, Mexico Beach\, FL\, 32456
CATEGORIES:Fishing
ATTACH;FMTTYPE=image/jpeg:https://mexicobeach.com/wp-content/uploads/2024/03/father-son_snapper_GW-2023.jpg
END:VEVENT
BEGIN:VEVENT
DTSTART;VALUE=DATE:20260723
DTEND;VALUE=DATE:20260726
DTSTAMP:20260424T142237
CREATED:20240222T153735Z
LAST-MODIFIED:20260122T145452Z
UID:10001601-1784847600-1785020399@mexicobeach.com
SUMMARY:MBARA Kingfish Tournament
DESCRIPTION:Get your gear ready—it’s time to fish! The Mexico Beach Artificial Reef Association (MBARA) is excited to host the 29th Annual Kingfish Tournament\, the Gulf Coast’s premier fishing event. Mark your calendars for this unforgettable weekend\, all activity will take place at the Mexico Beach Boat Ramp Park: \n\nJuly 24th: Captains’ Party- 5:00pm – 8:00pm\nJuly 25th: Fishing Tournament & Weigh-In- 3:00pm – 6:00pm\n\nThis tournament is MBARA’s largest fundraising event\, with proceeds directly supporting the construction and deployment of new artificial reefs off the coast of Mexico Beach. These reefs are vital for promoting marine conservation and enhancing our local ecosystem. Whether you’re a seasoned angler or a first-time participant\, this is your chance to reel in the big one while supporting a great cause! \nFor tournament rules\, registration details\, and more information\, visit the MBARA website as well as their Facebook page. We can’t wait to see you out on the water! \nFor directions to the Boat Ramp Park\, click here.
URL:https://mexicobeach.com/event/mbara-kingfish-tournament/
LOCATION:Mexico Beach Boat Ramp\, 4444 US-98\, Mexico Beach\, FL\, 32456
CATEGORIES:Fishing
ATTACH;FMTTYPE=image/jpeg:https://mexicobeach.com/wp-content/uploads/2024/02/2025_MBARA_Photo.jpg
END:VEVENT
BEGIN:VEVENT
DTSTART;VALUE=DATE:20260905
DTEND;VALUE=DATE:20260906
DTSTAMP:20260424T142237
CREATED:20240227T144832Z
LAST-MODIFIED:20260122T142918Z
UID:10001604-1788566400-1788652799@mexicobeach.com
SUMMARY:License-Free Saltwater Fishing Day
DESCRIPTION:Ready to fish without having to purchase a saltwater fishing license? The Florida Fish & Wildlife Conservation Commission offering license-free fishing days for those wanting to test the waters. This is an excellent opportunity for those who don’t yet have a fishing license to experience fishing\, take youth fishing\, or for avid anglers to introduce a friend to fishing without having to purchase a State of Florida issued fishing license. On the listed days\, the fishing license requirement is waived for all recreational anglers\, including both State of Florida residents and non-residents. The saltwater waiver applies to any recreational harvest requiring a saltwater fishing license (e.g.\, crabbing\, lobstering\, scalloping\, etc.) as well as fishing from shore or a boat.  A snook or spiny lobster permit are also not required on these days. \nFor more information visit Florida Fish & Wildlife Conservation by  clicking here.
URL:https://mexicobeach.com/event/license-free-saltwater-fishing-day-4/
LOCATION:Gulf of America\, Mexico Beach\, FL\, 32456\, United States
CATEGORIES:Fishing
ATTACH;FMTTYPE=image/jpeg:https://mexicobeach.com/wp-content/uploads/2015/11/mexico-beach-fishing-21.jpg
GEO:29.947293;-85.42451
END:VEVENT
BEGIN:VEVENT
DTSTART;VALUE=DATE:20261129
DTEND;VALUE=DATE:20261130
DTSTAMP:20260424T142237
CREATED:20230825T180629Z
LAST-MODIFIED:20260122T142808Z
UID:10001390-1795910400-1795996799@mexicobeach.com
SUMMARY:License-Free Saltwater Fishing Day
DESCRIPTION:Want to try and catch that “big one” without a fishing license? You are in luck. The Florida Fish & Wildlife Conservation Commission offering license-free fishing days for those wanting to test the waters. This is an excellent opportunity for those who don’t yet have a fishing license to experience fishing\, take youth fishing\, or for avid anglers to introduce a friend to fishing without having to purchase a State of Florida issued fishing license. On the listed days\, the fishing license requirement is waived for all recreational anglers\, including both State of Florida residents and non-residents. The saltwater waiver applies to any recreational harvest requiring a saltwater fishing license (e.g.\, crabbing\, lobstering\, scalloping\, etc.) as well as fishing from shore or a boat.  A snook or spiny lobster permit are also not required on these days. \nFor more information visit Florida Fish & Wildlife Conservation by  clicking here.
URL:https://mexicobeach.com/event/license-free-saltwater-fishing-day/
LOCATION:Gulf of America\, Mexico Beach\, FL\, 32456\, United States
CATEGORIES:Fishing
ATTACH;FMTTYPE=image/jpeg:https://mexicobeach.com/wp-content/uploads/2019/09/Nancy-Walker_1st_FishingBoating-e1700168981750.jpg
GEO:29.947293;-85.42451
END:VEVENT
END:VCALENDAR